BEGIN:VCALENDAR
VERSION:2.0
PRODID:-//Cityring Lünen - ECPv5.16.4//NONSGML v1.0//EN
CALSCALE:GREGORIAN
METHOD:PUBLISH
X-WR-CALNAME:Cityring Lünen
X-ORIGINAL-URL:https://www.cityring-luenen.de
X-WR-CALDESC:Veranstaltungen für Cityring Lünen
BEGIN:VTIMEZONE
TZID:Europe/Berlin
BEGIN:DAYLIGHT
TZOFFSETFROM:+0100
TZOFFSETTO:+0200
TZNAME:CEST
DTSTART:20160327T010000
END:DAYLIGHT
BEGIN:STANDARD
TZOFFSETFROM:+0200
TZOFFSETTO:+0100
TZNAME:CET
DTSTART:20161030T010000
END:STANDARD
END:VTIMEZONE
BEGIN:VEVENT
DTSTART;TZID=Europe/Berlin:20161026T190000
DTEND;TZID=Europe/Berlin:20161026T200000
DTSTAMP:20260425T173134
CREATED:20161017T121033Z
LAST-MODIFIED:20161017T121149Z
UID:1323-1477508400-1477512000@www.cityring-luenen.de
SUMMARY:Info-Veranstaltung "verkaufsoffene Sonntage"
DESCRIPTION:Außerordentliche Mitgliederveranstaltung zur Lage der verkaufsoffenen Sonntage. \nWir freuen uns auf zahlreiche Teilnehmer!
URL:https://www.cityring-luenen.de/event/info-veranstaltung-verkaufsoffene-sonntage/
LOCATION:MERCEDES Lünen\, Lindenplatz 3\, Lünen\, NRW\, 44532\, Deutschland
ORGANIZER;CN="Mercedes-Benz":MAILTO:vorstand@cityring-luenen.de
END:VEVENT
END:VCALENDAR