BEGIN:VCALENDAR
VERSION:2.0
PRODID:-//Cityring Lünen - ECPv5.16.4//NONSGML v1.0//EN
CALSCALE:GREGORIAN
METHOD:PUBLISH
X-WR-CALNAME:Cityring Lünen
X-ORIGINAL-URL:https://www.cityring-luenen.de
X-WR-CALDESC:Veranstaltungen für Cityring Lünen
BEGIN:VTIMEZONE
TZID:Europe/Berlin
BEGIN:DAYLIGHT
TZOFFSETFROM:+0100
TZOFFSETTO:+0200
TZNAME:CEST
DTSTART:20170326T010000
END:DAYLIGHT
BEGIN:STANDARD
TZOFFSETFROM:+0200
TZOFFSETTO:+0100
TZNAME:CET
DTSTART:20171029T010000
END:STANDARD
END:VTIMEZONE
BEGIN:VEVENT
DTSTART;TZID=Europe/Berlin:20170426T190000
DTEND;TZID=Europe/Berlin:20170426T210000
DTSTAMP:20260423T064403
CREATED:20170322T113015Z
LAST-MODIFIED:20170322T113051Z
UID:1605-1493233200-1493240400@www.cityring-luenen.de
SUMMARY:Jahreshauptversammlung April 2017
DESCRIPTION:Bitte Zu- und Absagen rechtzeitig telefonisch oder via Mail.
URL:https://www.cityring-luenen.de/event/jahreshauptversammlung-april-2017/
LOCATION:MERCEDES Lünen\, Lindenplatz 3\, Lünen\, NRW\, 44532\, Deutschland
ATTACH;FMTTYPE=image/jpeg:https://www.cityring-luenen.de/wp-content/uploads/2016/04/mercedes_luenen_cityring.jpg
ORGANIZER;CN="Mercedes-Benz":MAILTO:vorstand@cityring-luenen.de
END:VEVENT
END:VCALENDAR