BEGIN:VCALENDAR
VERSION:2.0
PRODID:-//Cityring Lünen - ECPv5.16.4//NONSGML v1.0//EN
CALSCALE:GREGORIAN
METHOD:PUBLISH
X-WR-CALNAME:Cityring Lünen
X-ORIGINAL-URL:https://www.cityring-luenen.de
X-WR-CALDESC:Veranstaltungen für Cityring Lünen
BEGIN:VTIMEZONE
TZID:Europe/Berlin
BEGIN:DAYLIGHT
TZOFFSETFROM:+0100
TZOFFSETTO:+0200
TZNAME:CEST
DTSTART:20170326T010000
END:DAYLIGHT
BEGIN:STANDARD
TZOFFSETFROM:+0200
TZOFFSETTO:+0100
TZNAME:CET
DTSTART:20171029T010000
END:STANDARD
END:VTIMEZONE
BEGIN:VEVENT
DTSTART;TZID=Europe/Berlin:20170224T093000
DTEND;TZID=Europe/Berlin:20170224T113000
DTSTAMP:20260423T131732
CREATED:20170223T070647Z
LAST-MODIFIED:20170223T070909Z
UID:1568-1487928600-1487935800@www.cityring-luenen.de
SUMMARY:Kinderkarnevalsumzug
DESCRIPTION:Wir treffen uns alle gemeinsam um 9.30 Uhr an der Lippebrücke in der Fußgängerzone (Nordufer\, Höhe Münsterstraße 1a/b). Von da aus ziehen wir ca. 30 bis 45 Minuten durch die Innenstadt und finden uns dann in der Persiluhr-Passage (Gartenstraße 2) ein. \nDort gibt es Berliner\, kalte und warme Getränke und ein kleines Programm. Den Kindern wird dort auch ein Karnevalsorden verliehen. Für die „Großen“ ist in dieser Zeit das Café NEULAND geöffnet. Gegen 11.15 Uhr – 11.30 Uhr endet die Veranstaltung.
URL:https://www.cityring-luenen.de/event/kinderkarnevalsumzug/
ATTACH;FMTTYPE=image/jpeg:https://www.cityring-luenen.de/wp-content/uploads/2017/02/IMG_2550.jpg
END:VEVENT
END:VCALENDAR