BEGIN:VCALENDAR
VERSION:2.0
PRODID:-//Cityring Lünen - ECPv5.16.4//NONSGML v1.0//EN
CALSCALE:GREGORIAN
METHOD:PUBLISH
X-WR-CALNAME:Cityring Lünen
X-ORIGINAL-URL:https://www.cityring-luenen.de
X-WR-CALDESC:Veranstaltungen für Cityring Lünen
BEGIN:VTIMEZONE
TZID:Europe/Berlin
BEGIN:DAYLIGHT
TZOFFSETFROM:+0100
TZOFFSETTO:+0200
TZNAME:CEST
DTSTART:20170326T010000
END:DAYLIGHT
BEGIN:STANDARD
TZOFFSETFROM:+0200
TZOFFSETTO:+0100
TZNAME:CET
DTSTART:20171029T010000
END:STANDARD
END:VTIMEZONE
BEGIN:VEVENT
DTSTART;TZID=Europe/Berlin:20171008T130000
DTEND;TZID=Europe/Berlin:20171008T180000
DTSTAMP:20260422T135344
CREATED:20170306T161630Z
LAST-MODIFIED:20170925T103920Z
UID:1596-1507467600-1507485600@www.cityring-luenen.de
SUMMARY:Verkaufsoffener Sonntag – Lünen ist 2017 vielfältig und bunt!
DESCRIPTION:Ausklang der interkulturellen Woche …\n  \nFreuen Sie sich auf einen verkaufsoffenen Sonntag\, der zum Abschluss der bundesweiten interkulturellen Woche unter dem Motto „Vielfalt verbindet“ ein buntes Bühnenprogramm mit interkultureller Musik und Folklore-Gruppen\, bietet. \nDer City Ring Lünen und unsere Kooperationspartner laden Sie dazu herzlich am Sonntag 8. Oktober 2017 in die Lüner Innenstadt ein. \nVon 13:00 Uhr bis 18:00 Uhr haben Sie die Möglichkeit ausgiebig in unserer Innenstadt zu shoppen. \nHier bekommen Sie als Händler das Anmelde-Formular. \n 
URL:https://www.cityring-luenen.de/event/luenen-ist-2017-vielfaeltig-und-bunt/
ATTACH;FMTTYPE=image/jpeg:https://www.cityring-luenen.de/wp-content/uploads/2017/09/2017_10_Herbst_VK_170944017_M.jpg
END:VEVENT
END:VCALENDAR