BEGIN:VCALENDAR
VERSION:2.0
PRODID:-//Cityring Lünen - ECPv5.16.4//NONSGML v1.0//EN
CALSCALE:GREGORIAN
METHOD:PUBLISH
X-WR-CALNAME:Cityring Lünen
X-ORIGINAL-URL:https://www.cityring-luenen.de
X-WR-CALDESC:Veranstaltungen für Cityring Lünen
BEGIN:VTIMEZONE
TZID:Europe/Berlin
BEGIN:DAYLIGHT
TZOFFSETFROM:+0100
TZOFFSETTO:+0200
TZNAME:CEST
DTSTART:20170326T010000
END:DAYLIGHT
BEGIN:STANDARD
TZOFFSETFROM:+0200
TZOFFSETTO:+0100
TZNAME:CET
DTSTART:20171029T010000
END:STANDARD
END:VTIMEZONE
BEGIN:VEVENT
DTSTART;TZID=Europe/Berlin:20170902T180000
DTEND;TZID=Europe/Berlin:20170902T220000
DTSTAMP:20260422T175250
CREATED:20170306T161305Z
LAST-MODIFIED:20170830T150011Z
UID:1595-1504375200-1504389600@www.cityring-luenen.de
SUMMARY:Moonlight-Shopping 2017
DESCRIPTION:• Samstag 18.00 bis 22.00 Uhr \n• Nächtlicher Einkaufsbummel\n• Kulinarische Köstlichkeiten\n• Live-Musik für jeden Geschmack\n• Romantische Illuminationen\n• 20 Uhr: kostenlose Stadtführung zum Thema „Lüner Handel im Wandel“ – Startpunkt: Marktplatz\, Marktfiguren.\n• viele Aktionen der Händler aus Lünen … \nHier bekommen Sie als Händler das Anmelde-Formular.
URL:https://www.cityring-luenen.de/event/moonlight-shopping-2017/
ATTACH;FMTTYPE=image/jpeg:https://www.cityring-luenen.de/wp-content/uploads/2017/08/Moonlight_Header-scaled.jpg
END:VEVENT
END:VCALENDAR