BEGIN:VCALENDAR
VERSION:2.0
PRODID:-//Cityring Lünen - ECPv5.16.4//NONSGML v1.0//EN
CALSCALE:GREGORIAN
METHOD:PUBLISH
X-WR-CALNAME:Cityring Lünen
X-ORIGINAL-URL:https://www.cityring-luenen.de
X-WR-CALDESC:Veranstaltungen für Cityring Lünen
BEGIN:VTIMEZONE
TZID:Europe/Berlin
BEGIN:DAYLIGHT
TZOFFSETFROM:+0100
TZOFFSETTO:+0200
TZNAME:CEST
DTSTART:20160327T010000
END:DAYLIGHT
BEGIN:STANDARD
TZOFFSETFROM:+0200
TZOFFSETTO:+0100
TZNAME:CET
DTSTART:20161030T010000
END:STANDARD
END:VTIMEZONE
BEGIN:VEVENT
DTSTART;TZID=Europe/Berlin:20161203T173000
DTEND;TZID=Europe/Berlin:20161203T183000
DTSTAMP:20260423T194238
CREATED:20161103T151021Z
LAST-MODIFIED:20161116T144220Z
UID:1341-1480786200-1480789800@www.cityring-luenen.de
SUMMARY:Nikolaus kommt auf dem Schiff!
DESCRIPTION:Ein echtes Highlight das jeden\n– ob Groß oder Klein – begeistert … \n\nNikolausankunft an der Lippenkaskade um 17.30 Uhr\nBegrüßung durch Fanfaren (Posaunenchor der Herz Jesu Kirche)\nBegrüßung durch den Herold\nBegrüßung durch den Bürgermeister sowie Einladung zur Sternengasse 7 (hier ist die Bühne während des Weihnachtsmarktes)\nGang von der Lippekaskade zur Bühne (Standort zwischen Deutsche Bank und Lippe Einkaufszentrum)\nBegrüßung der Kinder durch den Nikolaus\nZehn Kinder bringen eine Darbietung weihnachtlicher Gedichte (Anmeldungen erfolgen nach Aufruf in der Presse)\nVortragende Kinder bekommen als Dankeschön für ihren Mut ein Geschenk\nVerteilen der Stutenkerle durch die Klüngelgarde\nVerabschiedung vom Nikolaus um 18.30 Uhr mit einer Kutschfahrt in Richtung der südlichen Fußgängerzone\nDie Kutsche wartet am Tobiaspark\, um den Nikolaus in die nächste Stadt zu den nächsten Kindern zu bringen\nWir wünschen allen viel Spaß …
URL:https://www.cityring-luenen.de/event/nikolaus-kommt-mit-dem-schiff-2/
LOCATION:Nikolaus auf der Lippe\, Lippebrücke\, Lünen\, NRW\, 44532\, Deutschland
ATTACH;FMTTYPE=image/jpeg:https://www.cityring-luenen.de/wp-content/uploads/2016/11/Nikolaus_Schiff.jpg
END:VEVENT
END:VCALENDAR