BEGIN:VCALENDAR
VERSION:2.0
PRODID:-//Cityring Lünen - ECPv5.16.4//NONSGML v1.0//EN
CALSCALE:GREGORIAN
METHOD:PUBLISH
X-WR-CALNAME:Cityring Lünen
X-ORIGINAL-URL:https://www.cityring-luenen.de
X-WR-CALDESC:Veranstaltungen für Cityring Lünen
BEGIN:VTIMEZONE
TZID:Europe/Berlin
BEGIN:DAYLIGHT
TZOFFSETFROM:+0100
TZOFFSETTO:+0200
TZNAME:CEST
DTSTART:20170326T010000
END:DAYLIGHT
BEGIN:STANDARD
TZOFFSETFROM:+0200
TZOFFSETTO:+0100
TZNAME:CET
DTSTART:20171029T010000
END:STANDARD
END:VTIMEZONE
BEGIN:VEVENT
DTSTART;TZID=Europe/Berlin:20170402T130000
DTEND;TZID=Europe/Berlin:20170402T180000
DTSTAMP:20260423T100237
CREATED:20170303T135618Z
LAST-MODIFIED:20170326T124852Z
UID:1589-1491138000-1491156000@www.cityring-luenen.de
SUMMARY:Stadtumbaufest 2017
DESCRIPTION:Gemeinsam.Neues.Erleben\nmit Öffnung der Geschäfte von 13:00 bis 18:00 Uhr \nProgramm zum Download hier! \n50 Freikarten CityGeoCaching vom City Ring Lünen gesponsert!\nAnmeldungen bei:\nLippetouristik GmbH\nMünsterstr. 1d\n44534 Lünen\nTel.: (02306) 78 1007\nMail: m.sandmann@lippetouristik.de \nMehr dazu unter Aktuelles … CityGeoCaching
URL:https://www.cityring-luenen.de/event/stadtumbaufest-2017/
ATTACH;FMTTYPE=image/jpeg:https://www.cityring-luenen.de/wp-content/uploads/2017/03/Stadtumbaufest-Plakat-klein-2.jpg
END:VEVENT
END:VCALENDAR