BEGIN:VCALENDAR
VERSION:2.0
PRODID:-//Cityring Lünen - ECPv5.16.4//NONSGML v1.0//EN
CALSCALE:GREGORIAN
METHOD:PUBLISH
X-WR-CALNAME:Cityring Lünen
X-ORIGINAL-URL:https://www.cityring-luenen.de
X-WR-CALDESC:Veranstaltungen für Cityring Lünen
BEGIN:VTIMEZONE
TZID:Europe/Berlin
BEGIN:DAYLIGHT
TZOFFSETFROM:+0100
TZOFFSETTO:+0200
TZNAME:CEST
DTSTART:20160327T010000
END:DAYLIGHT
BEGIN:STANDARD
TZOFFSETFROM:+0200
TZOFFSETTO:+0100
TZNAME:CET
DTSTART:20161030T010000
END:STANDARD
END:VTIMEZONE
BEGIN:VEVENT
DTSTART;TZID=Europe/Berlin:20161104T170000
DTEND;TZID=Europe/Berlin:20161104T210000
DTSTAMP:20260425T140958
CREATED:20160711T143411Z
LAST-MODIFIED:20160711T143441Z
UID:1228-1478278800-1478293200@www.cityring-luenen.de
SUMMARY:Von der Baustelle – zur Schaustelle
DESCRIPTION:Immer Freitags ist BAUSTELLENPARTY!
URL:https://www.cityring-luenen.de/event/von-der-baustelle-zur-schaustelle-4/
LOCATION:Baustelle\, Münsterstraße\, Lünen\, NRW\, 44534\, Deutschland
ATTACH;FMTTYPE=image/jpeg:https://www.cityring-luenen.de/wp-content/uploads/2016/07/Plakat-Baustellen-Party-CRL-Website.jpg
ORGANIZER;CN="CITY%20RING%20L%C3%9CNEN%20e.V.%20%20%20%26%20%20%20Volksbank%20Selm-Bork%20und%20Altl%C3%BCnen":MAILTO:info@persiluhr.de
END:VEVENT
END:VCALENDAR