BEGIN:VCALENDAR
VERSION:2.0
PRODID:-//Cityring Lünen - ECPv5.16.4//NONSGML v1.0//EN
CALSCALE:GREGORIAN
METHOD:PUBLISH
X-WR-CALNAME:Cityring Lünen
X-ORIGINAL-URL:https://www.cityring-luenen.de
X-WR-CALDESC:Veranstaltungen für Cityring Lünen
BEGIN:VTIMEZONE
TZID:Europe/Berlin
BEGIN:DAYLIGHT
TZOFFSETFROM:+0100
TZOFFSETTO:+0200
TZNAME:CEST
DTSTART:20170326T010000
END:DAYLIGHT
BEGIN:STANDARD
TZOFFSETFROM:+0200
TZOFFSETTO:+0100
TZNAME:CET
DTSTART:20171029T010000
END:STANDARD
END:VTIMEZONE
BEGIN:VEVENT
DTSTART;TZID=Europe/Berlin:20171214T083000
DTEND;TZID=Europe/Berlin:20171214T100000
DTSTAMP:20260420T182121
CREATED:20161214T142003Z
LAST-MODIFIED:20171206T155454Z
UID:1464-1513240200-1513245600@www.cityring-luenen.de
SUMMARY:Vorstandssitzung Dezember 2017 (Änderung)!
DESCRIPTION:Hotel an der Persiluhr\, Münsterstraße 25-26\, 44534 Lünen.\nBitte Zu- und Absagen rechtzeitig telefonisch oder via Mail.
URL:https://www.cityring-luenen.de/event/vorstandssitzung-dezember-2017/
LOCATION:Hotel an der Persiluhr\, Münsterstraße 25-27\, Lünen\, NRW\, 44534\, Deutschland
ATTACH;FMTTYPE=image/jpeg:https://www.cityring-luenen.de/wp-content/uploads/2016/07/Persiluhr_Vorststandssitzung.jpg
END:VEVENT
END:VCALENDAR